{"text_format":"3","workbook":"xlsx","n_sheets":1,"sheets":["公告板"],"not_rendered":{"defined_names":2},"read":"whole","date_system":"1900"}

{"sheet":"公告板","index":0,"n_rows":177,"n_cols":8,"rows_kept":177,"merged":[[0,0,0,6]]}
["日照市公安局2021年公开招聘警务辅助人员\n进入体能测评范围人员名单"]
["序号","姓名","性别","民族","学历","身份证号码","报考职位","修改后"]
[1,"许航","女","汉","大专","371102********0322","看护职位A",{"$f":"REPLACE(#REF!,7,8,\"********\")","v":{"$error":"#REF!"}}]
[2,"时铭","女","汉","专科","371102********0325","看护职位A",{"$f":"REPLACE(#REF!,7,8,\"********\")","v":{"$error":"#REF!"}}]
[3,"李纪雪","女","汉","大专","371102********6026","看护职位A",{"$f":"REPLACE(#REF!,7,8,\"********\")","v":{"$error":"#REF!"}}]
[4,"于晓宁","女","汉","大专","371121********0222","看护职位A",{"$f":"REPLACE(#REF!,7,8,\"********\")","v":{"$error":"#REF!"}}]
[5,"厉志敏","女","汉","大专","371102********1324","看护职位A",{"$f":"REPLACE(#REF!,7,8,\"********\")","v":{"$error":"#REF!"}}]
[6,"苗泽楠","女","汉","大专","142232********5965","看护职位A",{"$f":"REPLACE(#REF!,7,8,\"********\")","v":{"$error":"#REF!"}}]
[7,"许珉瑜","女","汉","大专","371102********6329","看护职位A",{"$f":"REPLACE(#REF!,7,8,\"********\")","v":{"$error":"#REF!"}}]
[8,"于明慧","女","汉","本科","371121********0025","看护职位A",{"$f":"REPLACE(#REF!,7,8,\"********\")","v":{"$error":"#REF!"}}]
[9,"唐晓敏","女","汉","大专","371122********2520","看护职位A",{"$f":"REPLACE(#REF!,7,8,\"********\")","v":{"$error":"#REF!"}}]
[10,"李鑫","女","汉","专科","371121********0024","看护职位A",{"$f":"REPLACE(#REF!,7,8,\"********\")","v":{"$error":"#REF!"}}]
[11,"汤辉","女","汉","专科","371121********0065","看护职位A",{"$f":"REPLACE(#REF!,7,8,\"********\")","v":{"$error":"#REF!"}}]
[12,"高雅","女","汉","大专","371102********0529","看护职位A",{"$f":"REPLACE(#REF!,7,8,\"********\")","v":{"$error":"#REF!"}}]
[13,"陈玲","女","汉","专科","371102********0040","看护职位A",{"$f":"REPLACE(#REF!,7,8,\"********\")","v":{"$error":"#REF!"}}]
[14,"徐阳","女","汉","本科","371121********402X","看护职位A",{"$f":"REPLACE(#REF!,7,8,\"********\")","v":{"$error":"#REF!"}}]
[15,"费晨羲","女","汉","大专","371102********2221","看护职位A",{"$f":"REPLACE(#REF!,7,8,\"********\")","v":{"$error":"#REF!"}}]
[16,"寇瑶","女","汉","专科","371102********3224","看护职位A",{"$f":"REPLACE(#REF!,7,8,\"********\")","v":{"$error":"#REF!"}}]
[17,"刘志晓","女","汉","大专","371102********1625","看护职位A",{"$f":"REPLACE(#REF!,7,8,\"********\")","v":{"$error":"#REF!"}}]
[18,"马成帅","女","汉","本科","371122********002X","看护职位A",{"$f":"REPLACE(#REF!,7,8,\"********\")","v":{"$error":"#REF!"}}]
[19,"马文静","女","汉","本科","371102********2220","看护职位A",{"$f":"REPLACE(#REF!,7,8,\"********\")","v":{"$error":"#REF!"}}]
[20,"张盈盈","女","汉","大专","371122********1820","看护职位A",{"$f":"REPLACE(#REF!,7,8,\"********\")","v":{"$error":"#REF!"}}]
[21,"王晓雨","女","汉","大专","371121********0244","看护职位A",{"$f":"REPLACE(#REF!,7,8,\"********\")","v":{"$error":"#REF!"}}]
[22,"胡译文","女","汉","大专","371102********9204","看护职位A",{"$f":"REPLACE(#REF!,7,8,\"********\")","v":{"$error":"#REF!"}}]
[23,"魏嘉仪","女","汉","专科","230223********1220","看护职位A",{"$f":"REPLACE(#REF!,7,8,\"********\")","v":{"$error":"#REF!"}}]
[24,"高正宇","女","汉","大专","371122********0649","看护职位A",{"$f":"REPLACE(#REF!,7,8,\"********\")","v":{"$error":"#REF!"}}]
[25,"田梦雪","女","汉","大专","371102********6026","看护职位A",{"$f":"REPLACE(#REF!,7,8,\"********\")","v":{"$error":"#REF!"}}]
[26,"徐瑜","女","汉","大专","371102********0029","看护职位A",{"$f":"REPLACE(#REF!,7,8,\"********\")","v":{"$error":"#REF!"}}]
[27,"焦一凡","女","汉","大专","371102********5429","看护职位A",{"$f":"REPLACE(#REF!,7,8,\"********\")","v":{"$error":"#REF!"}}]
[28,"牟永丽","女","汉","专科","371121********042X","看护职位A",{"$f":"REPLACE(#REF!,7,8,\"********\")","v":{"$error":"#REF!"}}]
[29,"丁晓","女","汉","专科","371102********4727","看护职位A",{"$f":"REPLACE(#REF!,7,8,\"********\")","v":{"$error":"#REF!"}}]
[30,"卜姿汎","女","汉","专科","371102********7529","看护职位A",{"$f":"REPLACE(#REF!,7,8,\"********\")","v":{"$error":"#REF!"}}]
[31,"尹永卿","女","汉","大专","371102********222X","看护职位A",{"$f":"REPLACE(#REF!,7,8,\"********\")","v":{"$error":"#REF!"}}]
[32,"朱少洁","女","汉","大专","371122********0328","看护职位A",{"$f":"REPLACE(#REF!,7,8,\"********\")","v":{"$error":"#REF!"}}]
[33,"马钰","女","汉","大专","371102********5022","看护职位A",{"$f":"REPLACE(#REF!,7,8,\"********\")","v":{"$error":"#REF!"}}]
[34,"董倩男","女","汉","大专","371102********5426","看护职位A",{"$f":"REPLACE(#REF!,7,8,\"********\")","v":{"$error":"#REF!"}}]
[35,"杨博文","女","汉","本科","371102********4723","看护职位A",{"$f":"REPLACE(#REF!,7,8,\"********\")","v":{"$error":"#REF!"}}]
[36,"张译文","女","汉","专科","371325********0921","看护职位A",{"$f":"REPLACE(#REF!,7,8,\"********\")","v":{"$error":"#REF!"}}]
[37,"宋阳帆","女","汉","专科","371102********2561","看护职位A",{"$f":"REPLACE(#REF!,7,8,\"********\")","v":{"$error":"#REF!"}}]
[38,"马明明","女","汉","大专","371102********1620","看护职位A",{"$f":"REPLACE(#REF!,7,8,\"********\")","v":{"$error":"#REF!"}}]
[39,"李玟","女","汉","大专","371102********4422","看护职位A",{"$f":"REPLACE(#REF!,7,8,\"********\")","v":{"$error":"#REF!"}}]
[40,"王倩文","女","汉","大专","371102********1045","看护职位A",{"$f":"REPLACE(#REF!,7,8,\"********\")","v":{"$error":"#REF!"}}]
[41,"李敏","女","汉","大专","371102********0524","看护职位A",{"$f":"REPLACE(#REF!,7,8,\"********\")","v":{"$error":"#REF!"}}]
[42,"张韩","女","汉","本科","371102********6026","看护职位A",{"$f":"REPLACE(#REF!,7,8,\"********\")","v":{"$error":"#REF!"}}]
[43,"安姿熔","女","汉","大专","371102********1366","看护职位A",{"$f":"REPLACE(#REF!,7,8,\"********\")","v":{"$error":"#REF!"}}]
[44,"范豪","女","汉","大专","371102********6544","看护职位A",{"$f":"REPLACE(#REF!,7,8,\"********\")","v":{"$error":"#REF!"}}]
[45,"秦小然","女","汉","大专","371102********0044","看护职位A",{"$f":"REPLACE(#REF!,7,8,\"********\")","v":{"$error":"#REF!"}}]
[46,"厉鑫","女","汉","大专","371121********002X","看护职位A",{"$f":"REPLACE(#REF!,7,8,\"********\")","v":{"$error":"#REF!"}}]
[47,"马小戈","女","汉","大专","371102********1327","看护职位A",{"$f":"REPLACE(#REF!,7,8,\"********\")","v":{"$error":"#REF!"}}]
[48,"张枭","女","汉","大专","371102********602X","看护职位A",{"$f":"REPLACE(#REF!,7,8,\"********\")","v":{"$error":"#REF!"}}]
[49,"彭小格","女","汉","大专","371102********0321","看护职位A",{"$f":"REPLACE(#REF!,7,8,\"********\")","v":{"$error":"#REF!"}}]
[50,"安妮","女","汉","大专","371102********0088","看护职位A",{"$f":"REPLACE(#REF!,7,8,\"********\")","v":{"$error":"#REF!"}}]
[51,"马晓霞","女","汉","大专","371122********2861","看护职位A",{"$f":"REPLACE(#REF!,7,8,\"********\")","v":{"$error":"#REF!"}}]
[52,"辛怡文","女","汉","本科","371102********0081","看护职位A",{"$f":"REPLACE(#REF!,7,8,\"********\")","v":{"$error":"#REF!"}}]
[53,"刘健","女","汉","大专","371102********7822","看护职位A",{"$f":"REPLACE(#REF!,7,8,\"********\")","v":{"$error":"#REF!"}}]
[54,"卢宝莹","女","汉","本科","371102********7522","看护职位A",{"$f":"REPLACE(#REF!,7,8,\"********\")","v":{"$error":"#REF!"}}]
[55,"姜萍","女","汉","专科","371102********2520","看护职位A",{"$f":"REPLACE(#REF!,7,8,\"********\")","v":{"$error":"#REF!"}}]
[56,"卜美琪","女","汉","专科","371102********0325","看护职位A",{"$f":"REPLACE(#REF!,7,8,\"********\")","v":{"$error":"#REF!"}}]
[57,"赵文鑫","女","汉","本科","371122********2524","看护职位A",{"$f":"REPLACE(#REF!,7,8,\"********\")","v":{"$error":"#REF!"}}]
[58,"张雪","女","汉","大专","371102********0720","看护职位A",{"$f":"REPLACE(#REF!,7,8,\"********\")","v":{"$error":"#REF!"}}]
[59,"宋珈昕","女","汉","专科","371102********0046","看护职位A",{"$f":"REPLACE(#REF!,7,8,\"********\")","v":{"$error":"#REF!"}}]
[60,"时砚梅","女","汉","大专","371121********0449","看护职位A",{"$f":"REPLACE(#REF!,7,8,\"********\")","v":{"$error":"#REF!"}}]
[61,"时玉雪","女","汉","大专","371102********0388","看护职位A",{"$f":"REPLACE(#REF!,7,8,\"********\")","v":{"$error":"#REF!"}}]
[62,"张慧","女","汉","本科","371102********1344","看护职位A",{"$f":"REPLACE(#REF!,7,8,\"********\")","v":{"$error":"#REF!"}}]
[63,"滕洁","女","汉","大专","371102********7826","看护职位A",{"$f":"REPLACE(#REF!,7,8,\"********\")","v":{"$error":"#REF!"}}]
[64,"秦旋","女","汉","大专","371102********1323","看护职位A",{"$f":"REPLACE(#REF!,7,8,\"********\")","v":{"$error":"#REF!"}}]
[65,"金弈杉","女","汉","大专","371102********1326","看护职位A",{"$f":"REPLACE(#REF!,7,8,\"********\")","v":{"$error":"#REF!"}}]
[66,"秦丹","女","汉","本科","371102********5044","看护职位A",{"$f":"REPLACE(#REF!,7,8,\"********\")","v":{"$error":"#REF!"}}]
[67,"张梦宇","女","汉","本科","371102********4766","看护职位A",{"$f":"REPLACE(#REF!,7,8,\"********\")","v":{"$error":"#REF!"}}]
[68,"张馨文","女","汉","大专","371102********0324","看护职位A",{"$f":"REPLACE(#REF!,7,8,\"********\")","v":{"$error":"#REF!"}}]
[69,"段芙蓉","女","汉","专科","371202********0027","看护职位A",{"$f":"REPLACE(#REF!,7,8,\"********\")","v":{"$error":"#REF!"}}]
[70,"王丰舒","女","汉","大专","371102********7521","看护职位A",{"$f":"REPLACE(#REF!,7,8,\"********\")","v":{"$error":"#REF!"}}]
[71,"丁一容","女","汉","大专","371102********0065","看护职位A",{"$f":"REPLACE(#REF!,7,8,\"********\")","v":{"$error":"#REF!"}}]
[72,"李晓君","女","汉","本科","371122********3144","看护职位A",{"$f":"REPLACE(#REF!,7,8,\"********\")","v":{"$error":"#REF!"}}]
[73,"安晨","女","汉","专科","371102********1047","看护职位A",{"$f":"REPLACE(#REF!,7,8,\"********\")","v":{"$error":"#REF!"}}]
[74,"刘星言","女","汉","本科","371102********4422","看护职位A",{"$f":"REPLACE(#REF!,7,8,\"********\")","v":{"$error":"#REF!"}}]
[75,"孙玉妹","女","汉","专科","371121********1729","看护职位A",{"$f":"REPLACE(#REF!,7,8,\"********\")","v":{"$error":"#REF!"}}]
[76,"田涵","女","汉","专科","371102********4422","看护职位A",{"$f":"REPLACE(#REF!,7,8,\"********\")","v":{"$error":"#REF!"}}]
[77,"王娜","女","汉","专科","371102********6047","看护职位A",{"$f":"REPLACE(#REF!,7,8,\"********\")","v":{"$error":"#REF!"}}]
[78,"贺懂","女","汉","专科","371102********2586","看护职位A",{"$f":"REPLACE(#REF!,7,8,\"********\")","v":{"$error":"#REF!"}}]
[79,"蒋晨晨","女","汉","本科","371122********5428","看护职位A",{"$f":"REPLACE(#REF!,7,8,\"********\")","v":{"$error":"#REF!"}}]
[80,"吴晓琰","女","汉","本科","371122********0029","看护职位A",{"$f":"REPLACE(#REF!,7,8,\"********\")","v":{"$error":"#REF!"}}]
[81,"孔文凤","女","汉","大专","371102********6824","看护职位A",{"$f":"REPLACE(#REF!,7,8,\"********\")","v":{"$error":"#REF!"}}]
[82,"吕凤娇","女","汉","本科","371102********2527","看护职位A",{"$f":"REPLACE(#REF!,7,8,\"********\")","v":{"$error":"#REF!"}}]
[83,"刘莹","女","汉","本科","371102********2544","看护职位A",{"$f":"REPLACE(#REF!,7,8,\"********\")","v":{"$error":"#REF!"}}]
[84,"郑雪","女","汉","本科","371121********122X","看护职位A",{"$f":"REPLACE(#REF!,7,8,\"********\")","v":{"$error":"#REF!"}}]
[85,"张萍","女","汉","大专","371102********5046","看护职位A",{"$f":"REPLACE(#REF!,7,8,\"********\")","v":{"$error":"#REF!"}}]
[86,"路畅","女","汉","本科","371102********2227","看护职位A",{"$f":"REPLACE(#REF!,7,8,\"********\")","v":{"$error":"#REF!"}}]
[87,"许娜","女","汉","大专","371102********5108","看护职位A",{"$f":"REPLACE(#REF!,7,8,\"********\")","v":{"$error":"#REF!"}}]
[88,"徐滕","女","汉","大专","371102********0528","看护职位A",{"$f":"REPLACE(#REF!,7,8,\"********\")","v":{"$error":"#REF!"}}]
[89,"李雪","女","汉","大专","371122********632X","看护职位A",{"$f":"REPLACE(#REF!,7,8,\"********\")","v":{"$error":"#REF!"}}]
[90,"陈冬","女","汉","本科","371102********0649","看护职位A",{"$f":"REPLACE(#REF!,7,8,\"********\")","v":{"$error":"#REF!"}}]
[91,"王飞","女","汉","大专","371102********6027","看护职位A",{"$f":"REPLACE(#REF!,7,8,\"********\")","v":{"$error":"#REF!"}}]
[92,"舒彦凝","女","汉","专科","371102********2260","看护职位A",{"$f":"REPLACE(#REF!,7,8,\"********\")","v":{"$error":"#REF!"}}]
[93,"王晨","女","汉","大专","371102********0524","看护职位A",{"$f":"REPLACE(#REF!,7,8,\"********\")","v":{"$error":"#REF!"}}]
[94,"王宗青","女","汉","大专","371102********6022","看护职位A",{"$f":"REPLACE(#REF!,7,8,\"********\")","v":{"$error":"#REF!"}}]
[95,"李霏","女","汉","大专","371102********0062","看护职位A",{"$f":"REPLACE(#REF!,7,8,\"********\")","v":{"$error":"#REF!"}}]
[96,"赵琳","女","汉","专科","371102********1022","看护职位A",{"$f":"REPLACE(#REF!,7,8,\"********\")","v":{"$error":"#REF!"}}]
[97,"朱晓田","女","汉","大专","371122********3726","看护职位A",{"$f":"REPLACE(#REF!,7,8,\"********\")","v":{"$error":"#REF!"}}]
[98,"汪巾楠","女","汉","大专","371102********1923","看护职位A",{"$f":"REPLACE(#REF!,7,8,\"********\")","v":{"$error":"#REF!"}}]
[99,"李海燕","女","汉","专科","371102********0063","看护职位A",{"$f":"REPLACE(#REF!,7,8,\"********\")","v":{"$error":"#REF!"}}]
[100,"李敏","女","汉","本科","371121********1222","看护职位A",{"$f":"REPLACE(#REF!,7,8,\"********\")","v":{"$error":"#REF!"}}]
[101,"刘真","女","汉","本科","371102********9206","看护职位A",{"$f":"REPLACE(#REF!,7,8,\"********\")","v":{"$error":"#REF!"}}]
[102,"田一铭","女","汉","本科","371102********1322","看护职位A",{"$f":"REPLACE(#REF!,7,8,\"********\")","v":{"$error":"#REF!"}}]
[103,"陈玉","女","汉","专科","371302********1449","看护职位A","看护职位A"]
[104,"许丹娜","女","汉","大专","371102********5724","看护职位A","看护职位A"]
[105,"张艺凡","女","汉","专科","371102********3522","看护职位A","看护职位A"]
[106,"杨慧","女","汉","大专","371102********7822","看护职位A",{"$f":"REPLACE(#REF!,7,8,\"********\")","v":{"$error":"#REF!"}}]
[107,"迟苗迪","女","汉","本科","371102********1643","看护职位A"]
[108,"宋晓晗","女","汉","大专","371102********0066","看护职位A","看护职位A"]
[109,"阚浩","男","汉","本科","371102********0019","看护职位B",{"$f":"REPLACE(#REF!,7,8,\"********\")","v":{"$error":"#REF!"}}]
[110,"刘昌鑫","男","汉","专科","371102********8112","看护职位B",{"$f":"REPLACE(#REF!,7,8,\"********\")","v":{"$error":"#REF!"}}]
[111,"王凯","男","汉","大专","371102********6030","看护职位B",{"$f":"REPLACE(#REF!,7,8,\"********\")","v":{"$error":"#REF!"}}]
[112,"窦凤晓","男","汉","高中","371122********8333","看护职位B",{"$f":"REPLACE(#REF!,7,8,\"********\")","v":{"$error":"#REF!"}}]
[113,"李懿勋","男","汉","中专","371102********0755","看护职位B",{"$f":"REPLACE(#REF!,7,8,\"********\")","v":{"$error":"#REF!"}}]
[114,"孙宇","男","汉","大专","230421********1819","看护职位B",{"$f":"REPLACE(#REF!,7,8,\"********\")","v":{"$error":"#REF!"}}]
[115,"张文栋","男","汉","高中","371121********0731","看护职位B",{"$f":"REPLACE(#REF!,7,8,\"********\")","v":{"$error":"#REF!"}}]
[116,"张洋硕","男","汉","高中","371121********0718","看护职位B",{"$f":"REPLACE(#REF!,7,8,\"********\")","v":{"$error":"#REF!"}}]
[117,"王坤绪","男","汉","中专","371121********1737","看护职位B",{"$f":"REPLACE(#REF!,7,8,\"********\")","v":{"$error":"#REF!"}}]
[118,"牟清正","男","汉","中专","371102********1914","看护职位B",{"$f":"REPLACE(#REF!,7,8,\"********\")","v":{"$error":"#REF!"}}]
[119,"刘源","男","汉","中专","371327********1239","看护职位B",{"$f":"REPLACE(#REF!,7,8,\"********\")","v":{"$error":"#REF!"}}]
[120,"张家恺","男","汉","中专","371102********5731","看护职位B",{"$f":"REPLACE(#REF!,7,8,\"********\")","v":{"$error":"#REF!"}}]
[121,"杨鸿文","男","汉","中专","371102********0730","看护职位B",{"$f":"REPLACE(#REF!,7,8,\"********\")","v":{"$error":"#REF!"}}]
[122,"何昭磊","男","汉","中专","371102********0072","看护职位B",{"$f":"REPLACE(#REF!,7,8,\"********\")","v":{"$error":"#REF!"}}]
[123,"李浩","男","汉","中专","371102********0715","看护职位B",{"$f":"REPLACE(#REF!,7,8,\"********\")","v":{"$error":"#REF!"}}]
[124,"周迪","男","汉","本科","371102********5438","看护职位B",{"$f":"REPLACE(#REF!,7,8,\"********\")","v":{"$error":"#REF!"}}]
[125,"宋金明","男","汉","中专","371102********6810","看护职位B",{"$f":"REPLACE(#REF!,7,8,\"********\")","v":{"$error":"#REF!"}}]
[126,"刘鑫","男","汉","大专","371102********7117","看护职位B",{"$f":"REPLACE(#REF!,7,8,\"********\")","v":{"$error":"#REF!"}}]
[127,"安帅丞","男","汉","高中","371102********0538","看护职位B",{"$f":"REPLACE(#REF!,7,8,\"********\")","v":{"$error":"#REF!"}}]
[128,"岳龙飞","男","汉","中专","371121********0017","看护职位B",{"$f":"REPLACE(#REF!,7,8,\"********\")","v":{"$error":"#REF!"}}]
[129,"王云龙","男","汉","中专","371102********5039","看护职位B",{"$f":"REPLACE(#REF!,7,8,\"********\")","v":{"$error":"#REF!"}}]
[130,"唐皓","男","汉","大专","371102********1311","看护职位B",{"$f":"REPLACE(#REF!,7,8,\"********\")","v":{"$error":"#REF!"}}]
[131,"范世杰","男","汉","中专","371102********6514","看护职位B",{"$f":"REPLACE(#REF!,7,8,\"********\")","v":{"$error":"#REF!"}}]
[132,"牟文东","男","汉","中专","371102********2217","看护职位B",{"$f":"REPLACE(#REF!,7,8,\"********\")","v":{"$error":"#REF!"}}]
[133,"张永刚","男","汉","中专","371102********5056","看护职位B",{"$f":"REPLACE(#REF!,7,8,\"********\")","v":{"$error":"#REF!"}}]
[134,"董云宇","男","汉","大专","371122********0311","看护职位B",{"$f":"REPLACE(#REF!,7,8,\"********\")","v":{"$error":"#REF!"}}]
[135,"滕涛","男","汉","专科","371102********7511","看护职位B",{"$f":"REPLACE(#REF!,7,8,\"********\")","v":{"$error":"#REF!"}}]
[136,"王杰","男","汉","专科","371102********1618","看护职位B",{"$f":"REPLACE(#REF!,7,8,\"********\")","v":{"$error":"#REF!"}}]
[137,"贺亿","男","汉","中专","371102********0534","看护职位B",{"$f":"REPLACE(#REF!,7,8,\"********\")","v":{"$error":"#REF!"}}]
[138,"赵中峰","男","汉","中专","371102********6019","看护职位B",{"$f":"REPLACE(#REF!,7,8,\"********\")","v":{"$error":"#REF!"}}]
[139,"郭不凡","男","汉","大专","371102********0736","看护职位B",{"$f":"REPLACE(#REF!,7,8,\"********\")","v":{"$error":"#REF!"}}]
[140,"孙明晓","男","汉","专科","371122********0019","看护职位B",{"$f":"REPLACE(#REF!,7,8,\"********\")","v":{"$error":"#REF!"}}]
[141,"张鹏","男","汉","本科","371102********0539","看护职位B",{"$f":"REPLACE(#REF!,7,8,\"********\")","v":{"$error":"#REF!"}}]
[142,"张念锋","男","汉","中专","371102********7151","看护职位B",{"$f":"REPLACE(#REF!,7,8,\"********\")","v":{"$error":"#REF!"}}]
[143,"王旗","男","汉","中专","371121********0010","看护职位B",{"$f":"REPLACE(#REF!,7,8,\"********\")","v":{"$error":"#REF!"}}]
[144,"高光祥","男","汉","中专","371121********4238","看护职位B",{"$f":"REPLACE(#REF!,7,8,\"********\")","v":{"$error":"#REF!"}}]
[145,"王新江","男","汉","中专","371121********3813","看护职位B",{"$f":"REPLACE(#REF!,7,8,\"********\")","v":{"$error":"#REF!"}}]
[146,"李祥龙","男","汉","大专","371102********5075","看护职位B",{"$f":"REPLACE(#REF!,7,8,\"********\")","v":{"$error":"#REF!"}}]
[147,"赵庆华","男","汉","大专","371102********1332","看护职位B",{"$f":"REPLACE(#REF!,7,8,\"********\")","v":{"$error":"#REF!"}}]
[148,"厉磊","男","汉","本科","371121********073X","看护职位B",{"$f":"REPLACE(#REF!,7,8,\"********\")","v":{"$error":"#REF!"}}]
[149,"刘扬","男","汉","中专","371102********1058","看护职位B",{"$f":"REPLACE(#REF!,7,8,\"********\")","v":{"$error":"#REF!"}}]
[150,"丁威茗","男","汉","本科","371122********0014","看护职位B",{"$f":"REPLACE(#REF!,7,8,\"********\")","v":{"$error":"#REF!"}}]
[151,"赵浩","男","汉","本科","371102********0050","看护职位B",{"$f":"REPLACE(#REF!,7,8,\"********\")","v":{"$error":"#REF!"}}]
[152,"韩硕","男","汉","大专","371102********0717","看护职位B","看护职位B"]
[153,"秦帅","男","汉","中专","371102********4115","看护职位C",{"$f":"REPLACE(#REF!,7,8,\"********\")","v":{"$error":"#REF!"}}]
[154,"田澍","男","汉","大专","371102********131X","看护职位C",{"$f":"REPLACE(#REF!,7,8,\"********\")","v":{"$error":"#REF!"}}]
[155,"安文涛","男","汉","专科","371102********0718","看护职位C",{"$f":"REPLACE(#REF!,7,8,\"********\")","v":{"$error":"#REF!"}}]
[156,"任展志","男","汉","大专","371122********4214","看护职位C",{"$f":"REPLACE(#REF!,7,8,\"********\")","v":{"$error":"#REF!"}}]
[157,"张守文","男","汉","中专","371102********5119","看护职位C",{"$f":"REPLACE(#REF!,7,8,\"********\")","v":{"$error":"#REF!"}}]
[158,"时文盛","男","汉","大专","371102********033X","看护职位C",{"$f":"REPLACE(#REF!,7,8,\"********\")","v":{"$error":"#REF!"}}]
[159,"张轩赫","男","汉","中专","371102********031X","看护职位C",{"$f":"REPLACE(#REF!,7,8,\"********\")","v":{"$error":"#REF!"}}]
[160,"刘雪峰","男","汉","中专","371102********1317","看护职位C",{"$f":"REPLACE(#REF!,7,8,\"********\")","v":{"$error":"#REF!"}}]
[161,"王宏腾","男","汉","大专","371122********8150","看护职位C",{"$f":"REPLACE(#REF!,7,8,\"********\")","v":{"$error":"#REF!"}}]
[162,"孙涛","男","汉","中专","371121********4256","看护职位C",{"$f":"REPLACE(#REF!,7,8,\"********\")","v":{"$error":"#REF!"}}]
[163,"郭春云","男","汉","专科","222404********2011","看护职位C",{"$f":"REPLACE(#REF!,7,8,\"********\")","v":{"$error":"#REF!"}}]
[164,"宋晓东","男","汉","大专","371102********2517","看护职位C",{"$f":"REPLACE(#REF!,7,8,\"********\")","v":{"$error":"#REF!"}}]
[165,"秦浩杰","男","汉","中专","371102********0037","看护职位C",{"$f":"REPLACE(#REF!,7,8,\"********\")","v":{"$error":"#REF!"}}]
[166,"刘桂杰","男","汉","中专","371122********7216","看护职位C","看护职位C"]
[167,"宋文玉","男","汉","大专","371102********7816","看护职位D",{"$f":"REPLACE(#REF!,7,8,\"********\")","v":{"$error":"#REF!"}}]
[168,"惠吉庆","男","汉","中专","371102********5714","看护职位D",{"$f":"REPLACE(#REF!,7,8,\"********\")","v":{"$error":"#REF!"}}]
[169,"马德东","男","汉","中专","371102********5070","看护职位D",{"$f":"REPLACE(#REF!,7,8,\"********\")","v":{"$error":"#REF!"}}]
[170,"苏超越","男","汉","高中","371102********0037","看护职位D",{"$f":"REPLACE(#REF!,7,8,\"********\")","v":{"$error":"#REF!"}}]
[171,"王震","男","汉","中专","370611********1911","看护职位D",{"$f":"REPLACE(#REF!,7,8,\"********\")","v":{"$error":"#REF!"}}]
[172,"费浩","男","汉","中专","371102********541X","看护职位D",{"$f":"REPLACE(#REF!,7,8,\"********\")","v":{"$error":"#REF!"}}]
[173,"解加柱","男","汉","大专","371122********5411","看护职位D",{"$f":"REPLACE(#REF!,7,8,\"********\")","v":{"$error":"#REF!"}}]
[174,"孙惠杰","男","汉","中专","371102********0317","看护职位D",{"$f":"REPLACE(#REF!,7,8,\"********\")","v":{"$error":"#REF!"}}]
[175,"惠源","男","汉","中专","371102********6817","看护职位D",{"$f":"REPLACE(#REF!,7,8,\"********\")","v":{"$error":"#REF!"}}]